Package: GeuvadisTranscriptExpr Version: 1.38.0 Command: /home/biocbuild/bbs-3.22-bioc/R/bin/R CMD check --install=check:GeuvadisTranscriptExpr.install-out.txt --library=/home/biocbuild/bbs-3.22-bioc/R/site-library --timings GeuvadisTranscriptExpr_1.38.0.tar.gz StartedAt: 2025-11-06 12:23:42 -0500 (Thu, 06 Nov 2025) EndedAt: 2025-11-06 12:24:48 -0500 (Thu, 06 Nov 2025) EllapsedTime: 65.9 seconds RetCode: 0 Status: OK CheckDir: GeuvadisTranscriptExpr.Rcheck Warnings: 0