Package: GeuvadisTranscriptExpr Version: 1.38.0 Command: /home/biocbuild/bbs-3.22-bioc/R/bin/R CMD build --keep-empty-dirs --no-resave-data GeuvadisTranscriptExpr StartedAt: 2025-11-06 11:19:51 -0500 (Thu, 06 Nov 2025) EndedAt: 2025-11-06 11:20:25 -0500 (Thu, 06 Nov 2025) EllapsedTime: 33.8 seconds RetCode: 0 Status: OK PackageFile: GeuvadisTranscriptExpr_1.38.0.tar.gz PackageFileSize: 7.202 MiB