Package: GeuvadisTranscriptExpr Version: 1.36.0 Command: /home/biocbuild/bbs-3.21-bioc/R/bin/R CMD check --install=check:GeuvadisTranscriptExpr.install-out.txt --library=/home/biocbuild/bbs-3.21-bioc/R/site-library --timings GeuvadisTranscriptExpr_1.36.0.tar.gz StartedAt: 2025-10-02 12:21:27 -0400 (Thu, 02 Oct 2025) EndedAt: 2025-10-02 12:22:34 -0400 (Thu, 02 Oct 2025) EllapsedTime: 66.8 seconds RetCode: 0 Status: OK CheckDir: GeuvadisTranscriptExpr.Rcheck Warnings: 0