Package: GenomicDistributionsData Version: 1.18.0 Command: /home/biocbuild/bbs-3.22-bioc/R/bin/R CMD INSTALL GenomicDistributionsData StartedAt: 2025-11-06 11:00:53 -0500 (Thu, 06 Nov 2025) EndedAt: 2025-11-06 11:01:28 -0500 (Thu, 06 Nov 2025) EllapsedTime: 35.8 seconds RetCode: 0 Status: OK