Package: GenomicDistributionsData Version: 1.16.0 Command: /home/biocbuild/bbs-3.21-bioc/R/bin/R CMD INSTALL GenomicDistributionsData StartedAt: 2025-10-02 11:02:10 -0400 (Thu, 02 Oct 2025) EndedAt: 2025-10-02 11:02:46 -0400 (Thu, 02 Oct 2025) EllapsedTime: 35.9 seconds RetCode: 0 Status: OK