Package: GenomicDistributionsData Version: 1.16.0 Command: /home/biocbuild/bbs-3.21-bioc/R/bin/R CMD build --keep-empty-dirs --no-resave-data GenomicDistributionsData StartedAt: 2025-10-02 11:18:56 -0400 (Thu, 02 Oct 2025) EndedAt: 2025-10-02 11:19:53 -0400 (Thu, 02 Oct 2025) EllapsedTime: 56.8 seconds RetCode: 0 Status: OK PackageFile: GenomicDistributionsData_1.16.0.tar.gz PackageFileSize: 228.7 KiB