Package: GSVAdata Version: 1.46.0 Command: /home/biocbuild/bbs-3.22-bioc/R/bin/R CMD INSTALL GSVAdata StartedAt: 2025-11-06 10:58:10 -0500 (Thu, 06 Nov 2025) EndedAt: 2025-11-06 10:58:29 -0500 (Thu, 06 Nov 2025) EllapsedTime: 19.6 seconds RetCode: 0 Status: OK