Package: GSE62944 Version: 1.38.0 Command: /home/biocbuild/bbs-3.22-bioc/R/bin/R CMD INSTALL GSE62944 StartedAt: 2025-11-06 10:59:43 -0500 (Thu, 06 Nov 2025) EndedAt: 2025-11-06 10:59:59 -0500 (Thu, 06 Nov 2025) EllapsedTime: 15.2 seconds RetCode: 0 Status: OK