Package: GSE13015 Version: 1.18.0 Command: /home/biocbuild/bbs-3.22-bioc/R/bin/R CMD INSTALL GSE13015 StartedAt: 2025-11-06 10:58:34 -0500 (Thu, 06 Nov 2025) EndedAt: 2025-11-06 10:58:49 -0500 (Thu, 06 Nov 2025) EllapsedTime: 15.4 seconds RetCode: 0 Status: OK