Package: GSE13015 Version: 1.18.0 Command: /home/biocbuild/bbs-3.22-bioc/R/bin/R CMD build --keep-empty-dirs --no-resave-data GSE13015 StartedAt: 2025-11-06 11:20:25 -0500 (Thu, 06 Nov 2025) EndedAt: 2025-11-06 11:20:54 -0500 (Thu, 06 Nov 2025) EllapsedTime: 29.2 seconds RetCode: 0 Status: OK PackageFile: GSE13015_1.18.0.tar.gz PackageFileSize: 218.5 KiB