Package: GSBenchMark Version: 1.30.0 Command: /home/biocbuild/bbs-3.22-bioc/R/bin/R CMD build --keep-empty-dirs --no-resave-data GSBenchMark StartedAt: 2025-11-06 11:20:14 -0500 (Thu, 06 Nov 2025) EndedAt: 2025-11-06 11:20:27 -0500 (Thu, 06 Nov 2025) EllapsedTime: 12.5 seconds RetCode: 0 Status: OK PackageFile: GSBenchMark_1.30.0.tar.gz PackageFileSize: 41.87 MiB