Package: GIGSEAdata Version: 1.28.0 Command: /home/biocbuild/bbs-3.22-bioc/R/bin/R CMD INSTALL GIGSEAdata StartedAt: 2025-11-06 10:55:28 -0500 (Thu, 06 Nov 2025) EndedAt: 2025-11-06 10:55:33 -0500 (Thu, 06 Nov 2025) EllapsedTime: 4.6 seconds RetCode: 0 Status: OK