Package: GIGSEAdata Version: 1.28.0 Command: /home/biocbuild/bbs-3.22-bioc/R/bin/R CMD build --keep-empty-dirs --no-resave-data GIGSEAdata StartedAt: 2025-11-06 11:20:02 -0500 (Thu, 06 Nov 2025) EndedAt: 2025-11-06 11:20:10 -0500 (Thu, 06 Nov 2025) EllapsedTime: 8.0 seconds RetCode: 0 Status: OK PackageFile: GIGSEAdata_1.28.0.tar.gz PackageFileSize: 6.187 MiB