Package: FlowSorted.DLPFC.450k Version: 1.46.0 Command: /home/biocbuild/bbs-3.22-bioc/R/bin/R CMD check --install=check:FlowSorted.DLPFC.450k.install-out.txt --library=/home/biocbuild/bbs-3.22-bioc/R/site-library --timings FlowSorted.DLPFC.450k_1.46.0.tar.gz StartedAt: 2025-11-06 12:21:04 -0500 (Thu, 06 Nov 2025) EndedAt: 2025-11-06 12:24:04 -0500 (Thu, 06 Nov 2025) EllapsedTime: 179.9 seconds RetCode: 0 Status: WARNINGS CheckDir: FlowSorted.DLPFC.450k.Rcheck Warnings: 1