Package: FlowSorted.DLPFC.450k Version: 1.46.0 Command: /home/biocbuild/bbs-3.22-bioc/R/bin/R CMD build --keep-empty-dirs --no-resave-data FlowSorted.DLPFC.450k StartedAt: 2025-11-06 11:18:27 -0500 (Thu, 06 Nov 2025) EndedAt: 2025-11-06 11:19:45 -0500 (Thu, 06 Nov 2025) EllapsedTime: 77.3 seconds RetCode: 0 Status: OK PackageFile: FlowSorted.DLPFC.450k_1.46.0.tar.gz PackageFileSize: 123.7 MiB