Package: FlowSorted.Blood.EPIC Version: 2.14.0 Command: /home/biocbuild/bbs-3.22-bioc/R/bin/R CMD INSTALL FlowSorted.Blood.EPIC StartedAt: 2025-11-06 11:01:34 -0500 (Thu, 06 Nov 2025) EndedAt: 2025-11-06 11:02:18 -0500 (Thu, 06 Nov 2025) EllapsedTime: 43.3 seconds RetCode: 0 Status: OK