Package: FlowSorted.Blood.450k Version: 1.48.0 Command: /home/biocbuild/bbs-3.22-bioc/R/bin/R CMD INSTALL FlowSorted.Blood.450k StartedAt: 2025-11-06 11:01:34 -0500 (Thu, 06 Nov 2025) EndedAt: 2025-11-06 11:02:45 -0500 (Thu, 06 Nov 2025) EllapsedTime: 71.2 seconds RetCode: 0 Status: OK