Package: FlowSorted.Blood.450k Version: 1.48.0 Command: /home/biocbuild/bbs-3.22-bioc/R/bin/R CMD build --keep-empty-dirs --no-resave-data FlowSorted.Blood.450k StartedAt: 2025-11-06 11:18:10 -0500 (Thu, 06 Nov 2025) EndedAt: 2025-11-06 11:19:36 -0500 (Thu, 06 Nov 2025) EllapsedTime: 86.3 seconds RetCode: 0 Status: OK PackageFile: FlowSorted.Blood.450k_1.48.0.tar.gz PackageFileSize: 167.8 MiB