Package: Fletcher2013a Version: 1.46.0 Command: /home/biocbuild/bbs-3.22-bioc/R/bin/R CMD INSTALL Fletcher2013a StartedAt: 2025-11-06 10:56:18 -0500 (Thu, 06 Nov 2025) EndedAt: 2025-11-06 10:56:24 -0500 (Thu, 06 Nov 2025) EllapsedTime: 6.6 seconds RetCode: 0 Status: OK