Package: Fletcher2013a Version: 1.46.0 Command: /home/biocbuild/bbs-3.22-bioc/R/bin/R CMD build --keep-empty-dirs --no-resave-data Fletcher2013a StartedAt: 2025-11-06 11:17:54 -0500 (Thu, 06 Nov 2025) EndedAt: 2025-11-06 11:18:10 -0500 (Thu, 06 Nov 2025) EllapsedTime: 15.9 seconds RetCode: 0 Status: OK PackageFile: Fletcher2013a_1.46.0.tar.gz PackageFileSize: 73.39 MiB