Package: FieldEffectCrc Version: 1.20.0 Command: /home/biocbuild/bbs-3.22-bioc/R/bin/R CMD INSTALL FieldEffectCrc StartedAt: 2025-11-06 10:59:59 -0500 (Thu, 06 Nov 2025) EndedAt: 2025-11-06 11:00:27 -0500 (Thu, 06 Nov 2025) EllapsedTime: 27.9 seconds RetCode: 0 Status: OK