Package: FieldEffectCrc Version: 1.18.0 Command: /home/biocbuild/bbs-3.21-bioc/R/bin/R CMD INSTALL FieldEffectCrc StartedAt: 2025-09-25 11:01:18 -0400 (Thu, 25 Sep 2025) EndedAt: 2025-09-25 11:01:47 -0400 (Thu, 25 Sep 2025) EllapsedTime: 29.1 seconds RetCode: 0 Status: OK