Package: FIs Version: 1.38.0 Command: /home/biocbuild/bbs-3.22-bioc/R/bin/R CMD INSTALL FIs StartedAt: 2025-11-06 10:55:46 -0500 (Thu, 06 Nov 2025) EndedAt: 2025-11-06 10:55:48 -0500 (Thu, 06 Nov 2025) EllapsedTime: 2.5 seconds RetCode: 0 Status: OK