Package: FIs Version: 1.38.0 Command: /home/biocbuild/bbs-3.22-bioc/R/bin/R CMD build --keep-empty-dirs --no-resave-data FIs StartedAt: 2025-11-06 11:17:49 -0500 (Thu, 06 Nov 2025) EndedAt: 2025-11-06 11:17:50 -0500 (Thu, 06 Nov 2025) EllapsedTime: 1.0 seconds RetCode: 0 Status: OK PackageFile: FIs_1.38.0.tar.gz PackageFileSize: 622.9 KiB