Package: EatonEtAlChIPseq Version: 0.48.0 Command: /home/biocbuild/bbs-3.22-bioc/R/bin/R CMD INSTALL EatonEtAlChIPseq StartedAt: 2025-11-06 11:00:54 -0500 (Thu, 06 Nov 2025) EndedAt: 2025-11-06 11:01:15 -0500 (Thu, 06 Nov 2025) EllapsedTime: 21.6 seconds RetCode: 0 Status: OK