Package: EatonEtAlChIPseq Version: 0.48.0 Command: /home/biocbuild/bbs-3.22-bioc/R/bin/R CMD build --keep-empty-dirs --no-resave-data EatonEtAlChIPseq StartedAt: 2025-11-06 11:16:16 -0500 (Thu, 06 Nov 2025) EndedAt: 2025-11-06 11:16:18 -0500 (Thu, 06 Nov 2025) EllapsedTime: 2.4 seconds RetCode: 0 Status: OK PackageFile: EatonEtAlChIPseq_0.48.0.tar.gz PackageFileSize: 20.5 MiB