Package: EGSEAdata Version: 1.38.0 Command: /home/biocbuild/bbs-3.22-bioc/R/bin/R CMD INSTALL EGSEAdata StartedAt: 2025-11-06 10:55:52 -0500 (Thu, 06 Nov 2025) EndedAt: 2025-11-06 10:55:55 -0500 (Thu, 06 Nov 2025) EllapsedTime: 2.7 seconds RetCode: 0 Status: OK