Package: DvDdata Version: 1.46.0 Command: /home/biocbuild/bbs-3.22-bioc/R/bin/R CMD INSTALL DvDdata StartedAt: 2025-11-06 10:55:20 -0500 (Thu, 06 Nov 2025) EndedAt: 2025-11-06 10:55:27 -0500 (Thu, 06 Nov 2025) EllapsedTime: 6.6 seconds RetCode: 0 Status: OK