Package: DuoClustering2018 Version: 1.28.0 Command: /home/biocbuild/bbs-3.22-bioc/R/bin/R CMD INSTALL DuoClustering2018 StartedAt: 2025-11-06 10:56:36 -0500 (Thu, 06 Nov 2025) EndedAt: 2025-11-06 10:56:48 -0500 (Thu, 06 Nov 2025) EllapsedTime: 12.0 seconds RetCode: 0 Status: OK