Package: DropletTestFiles Version: 1.20.0 Command: /home/biocbuild/bbs-3.22-bioc/R/bin/R CMD INSTALL DropletTestFiles StartedAt: 2025-11-06 10:57:25 -0500 (Thu, 06 Nov 2025) EndedAt: 2025-11-06 10:57:38 -0500 (Thu, 06 Nov 2025) EllapsedTime: 12.8 seconds RetCode: 0 Status: OK