Package: DonaPLLP2013 Version: 1.48.0 Command: /home/biocbuild/bbs-3.22-bioc/R/bin/R CMD build --keep-empty-dirs --no-resave-data DonaPLLP2013 StartedAt: 2025-11-06 11:15:26 -0500 (Thu, 06 Nov 2025) EndedAt: 2025-11-06 11:20:12 -0500 (Thu, 06 Nov 2025) EllapsedTime: 286.4 seconds RetCode: 0 Status: OK PackageFile: DonaPLLP2013_1.48.0.tar.gz PackageFileSize: 93.77 MiB