Package: DeSousa2013 Version: 1.46.0 Command: /home/biocbuild/bbs-3.22-bioc/R/bin/R CMD INSTALL DeSousa2013 StartedAt: 2025-11-06 11:00:21 -0500 (Thu, 06 Nov 2025) EndedAt: 2025-11-06 11:00:52 -0500 (Thu, 06 Nov 2025) EllapsedTime: 31.4 seconds RetCode: 0 Status: OK