Package: DNAZooData Version: 1.10.0 Command: /home/biocbuild/bbs-3.22-bioc/R/bin/R CMD INSTALL DNAZooData StartedAt: 2025-11-06 10:59:40 -0500 (Thu, 06 Nov 2025) EndedAt: 2025-11-06 11:00:05 -0500 (Thu, 06 Nov 2025) EllapsedTime: 25.4 seconds RetCode: 0 Status: OK