Package: DExMAdata Version: 1.18.0 Command: /home/biocbuild/bbs-3.22-bioc/R/bin/R CMD build --keep-empty-dirs --no-resave-data DExMAdata StartedAt: 2025-11-06 11:14:55 -0500 (Thu, 06 Nov 2025) EndedAt: 2025-11-06 11:15:59 -0500 (Thu, 06 Nov 2025) EllapsedTime: 64.4 seconds RetCode: 0 Status: OK PackageFile: DExMAdata_1.18.0.tar.gz PackageFileSize: 7.389 MiB