Package: DAPARdata Version: 1.40.0 Command: /home/biocbuild/bbs-3.22-bioc/R/bin/R CMD INSTALL DAPARdata StartedAt: 2025-11-06 11:00:13 -0500 (Thu, 06 Nov 2025) EndedAt: 2025-11-06 11:00:49 -0500 (Thu, 06 Nov 2025) EllapsedTime: 35.6 seconds RetCode: 0 Status: OK