Package: CytoMethIC Version: 1.6.0 Command: /home/biocbuild/bbs-3.22-bioc/R/bin/R CMD INSTALL CytoMethIC StartedAt: 2025-11-06 11:04:20 -0500 (Thu, 06 Nov 2025) EndedAt: 2025-11-06 11:04:47 -0500 (Thu, 06 Nov 2025) EllapsedTime: 27.4 seconds RetCode: 0 Status: OK