Package: CytoMethIC Version: 1.4.0 Command: /home/biocbuild/bbs-3.21-bioc/R/bin/R CMD INSTALL CytoMethIC StartedAt: 2025-10-16 11:05:18 -0400 (Thu, 16 Oct 2025) EndedAt: 2025-10-16 11:05:46 -0400 (Thu, 16 Oct 2025) EllapsedTime: 28.2 seconds RetCode: 0 Status: OK