Package: CopyNeutralIMA Version: 1.28.0 Command: /home/biocbuild/bbs-3.22-bioc/R/bin/R CMD build --keep-empty-dirs --no-resave-data CopyNeutralIMA StartedAt: 2025-11-06 11:11:23 -0500 (Thu, 06 Nov 2025) EndedAt: 2025-11-06 11:14:51 -0500 (Thu, 06 Nov 2025) EllapsedTime: 208.3 seconds RetCode: 0 Status: OK PackageFile: CopyNeutralIMA_1.28.0.tar.gz PackageFileSize: 566.8 KiB