Package: ConnectivityMap Version: 1.46.0 Command: /home/biocbuild/bbs-3.22-bioc/R/bin/R CMD check --install=check:ConnectivityMap.install-out.txt --library=/home/biocbuild/bbs-3.22-bioc/R/site-library --timings ConnectivityMap_1.46.0.tar.gz StartedAt: 2025-11-25 12:07:49 -0500 (Tue, 25 Nov 2025) EndedAt: 2025-11-25 12:10:35 -0500 (Tue, 25 Nov 2025) EllapsedTime: 166.1 seconds RetCode: 0 Status: OK CheckDir: ConnectivityMap.Rcheck Warnings: 0