Package: ConnectivityMap Version: 1.46.0 Command: /home/biocbuild/bbs-3.22-bioc/R/bin/R CMD build --keep-empty-dirs --no-resave-data ConnectivityMap StartedAt: 2025-11-06 11:11:16 -0500 (Thu, 06 Nov 2025) EndedAt: 2025-11-06 11:11:31 -0500 (Thu, 06 Nov 2025) EllapsedTime: 14.6 seconds RetCode: 0 Status: OK PackageFile: ConnectivityMap_1.46.0.tar.gz PackageFileSize: 236.7 MiB