Package: CoSIAdata Version: 1.10.0 Command: /home/biocbuild/bbs-3.22-bioc/R/bin/R CMD INSTALL CoSIAdata StartedAt: 2025-11-06 10:57:02 -0500 (Thu, 06 Nov 2025) EndedAt: 2025-11-06 10:57:19 -0500 (Thu, 06 Nov 2025) EllapsedTime: 17.0 seconds RetCode: 0 Status: OK