Package: CoSIAdata Version: 1.10.0 Command: /home/biocbuild/bbs-3.22-bioc/R/bin/R CMD build --keep-empty-dirs --no-resave-data CoSIAdata StartedAt: 2025-11-06 11:11:26 -0500 (Thu, 06 Nov 2025) EndedAt: 2025-11-06 11:11:50 -0500 (Thu, 06 Nov 2025) EllapsedTime: 24.4 seconds RetCode: 0 Status: OK PackageFile: CoSIAdata_1.10.0.tar.gz PackageFileSize: 296.4 KiB