Package: CluMSIDdata Version: 1.26.0 Command: /home/biocbuild/bbs-3.22-bioc/R/bin/R CMD build --keep-empty-dirs --no-resave-data CluMSIDdata StartedAt: 2025-11-06 11:10:27 -0500 (Thu, 06 Nov 2025) EndedAt: 2025-11-06 11:11:36 -0500 (Thu, 06 Nov 2025) EllapsedTime: 68.4 seconds RetCode: 0 Status: OK PackageFile: CluMSIDdata_1.26.0.tar.gz PackageFileSize: 47.27 MiB