Package: ChimpHumanBrainData Version: 1.46.0 Command: /home/biocbuild/bbs-3.21-bioc/R/bin/R CMD build --keep-empty-dirs --no-resave-data ChimpHumanBrainData StartedAt: 2025-10-02 11:08:22 -0400 (Thu, 02 Oct 2025) EndedAt: 2025-10-02 11:09:07 -0400 (Thu, 02 Oct 2025) EllapsedTime: 44.5 seconds RetCode: 0 Status: OK PackageFile: ChimpHumanBrainData_1.46.0.tar.gz PackageFileSize: 65.04 MiB