Package: ChIPDBData Version: 1.0.0 Command: /home/biocbuild/bbs-3.22-bioc/R/bin/R CMD build --keep-empty-dirs --no-resave-data ChIPDBData StartedAt: 2025-11-06 11:09:42 -0500 (Thu, 06 Nov 2025) EndedAt: 2025-11-06 11:11:03 -0500 (Thu, 06 Nov 2025) EllapsedTime: 81.1 seconds RetCode: 0 Status: OK PackageFile: ChIPDBData_1.0.0.tar.gz PackageFileSize: 224.9 KiB