Package: ChAMPdata Version: 2.42.0 Command: /home/biocbuild/bbs-3.22-bioc/R/bin/R CMD INSTALL ChAMPdata StartedAt: 2025-11-06 11:00:25 -0500 (Thu, 06 Nov 2025) EndedAt: 2025-11-06 11:00:30 -0500 (Thu, 06 Nov 2025) EllapsedTime: 5.5 seconds RetCode: 0 Status: OK