Package: ChAMPdata Version: 2.42.0 Command: /home/biocbuild/bbs-3.22-bioc/R/bin/R CMD build --keep-empty-dirs --no-resave-data ChAMPdata StartedAt: 2025-11-06 11:09:36 -0500 (Thu, 06 Nov 2025) EndedAt: 2025-11-06 11:10:28 -0500 (Thu, 06 Nov 2025) EllapsedTime: 52.6 seconds RetCode: 0 Status: OK PackageFile: ChAMPdata_2.42.0.tar.gz PackageFileSize: 667.1 MiB