Package: CellMapperData Version: 1.36.0 Command: /home/biocbuild/bbs-3.22-bioc/R/bin/R CMD INSTALL CellMapperData StartedAt: 2025-11-06 10:57:19 -0500 (Thu, 06 Nov 2025) EndedAt: 2025-11-06 10:57:29 -0500 (Thu, 06 Nov 2025) EllapsedTime: 9.8 seconds RetCode: 0 Status: OK