Package: CardinalWorkflows Version: 1.42.0 Command: /home/biocbuild/bbs-3.22-bioc/R/bin/R CMD check --install=check:CardinalWorkflows.install-out.txt --library=/home/biocbuild/bbs-3.22-bioc/R/site-library --timings CardinalWorkflows_1.42.0.tar.gz StartedAt: 2025-11-06 12:04:22 -0500 (Thu, 06 Nov 2025) EndedAt: 2025-11-06 13:04:53 -0500 (Thu, 06 Nov 2025) EllapsedTime: 3630.7 seconds RetCode: 0 Status: OK CheckDir: CardinalWorkflows.Rcheck Warnings: 0