Package: CardinalWorkflows Version: 1.42.0 Command: /home/biocbuild/bbs-3.22-bioc/R/bin/R CMD build --keep-empty-dirs --no-resave-data CardinalWorkflows StartedAt: 2025-11-06 11:08:41 -0500 (Thu, 06 Nov 2025) EndedAt: 2025-11-06 11:58:18 -0500 (Thu, 06 Nov 2025) EllapsedTime: 2977.3 seconds RetCode: 0 Status: OK PackageFile: CardinalWorkflows_1.42.0.tar.gz PackageFileSize: 53.53 MiB